BEGIN:VCALENDAR
VERSION:2.0
PRODID:-//LEGA PRO - ECPv5.7.1//NONSGML v1.0//EN
CALSCALE:GREGORIAN
METHOD:PUBLISH
X-WR-CALNAME:LEGA PRO
X-ORIGINAL-URL:https://www.lega-pro.com
X-WR-CALDESC:Eventi per LEGA PRO
BEGIN:VTIMEZONE
TZID:Europe/Rome
BEGIN:DAYLIGHT
TZOFFSETFROM:+0100
TZOFFSETTO:+0200
TZNAME:CEST
DTSTART:20240331T010000
END:DAYLIGHT
BEGIN:STANDARD
TZOFFSETFROM:+0200
TZOFFSETTO:+0100
TZNAME:CET
DTSTART:20241027T010000
END:STANDARD
END:VTIMEZONE
BEGIN:VEVENT
DTSTART;TZID=Europe/Rome:20240124T183000
DTEND;TZID=Europe/Rome:20240124T230000
DTSTAMP:20260420T010515
CREATED:20231220T074052Z
LAST-MODIFIED:20240108T154911Z
UID:51631-1706121000-1706137200@www.lega-pro.com
SUMMARY:SEMIFINALI COPPA ITALIA SERIE C
DESCRIPTION:SEMIFINALI ANDATA \nRIMINI – CATANIA Ore 20.30\nLUCCHESE – PADOVA Ore 18.30 \n 
URL:https://www.lega-pro.com/event/semifinali-coppa-italia-serie-c-3/
END:VEVENT
END:VCALENDAR