BEGIN:VCALENDAR
VERSION:2.0
PRODID:-//LEGA PRO - ECPv5.7.1//NONSGML v1.0//EN
CALSCALE:GREGORIAN
METHOD:PUBLISH
X-WR-CALNAME:LEGA PRO
X-ORIGINAL-URL:https://www.lega-pro.com
X-WR-CALDESC:Eventi per LEGA PRO
BEGIN:VTIMEZONE
TZID:Europe/Rome
BEGIN:DAYLIGHT
TZOFFSETFROM:+0100
TZOFFSETTO:+0200
TZNAME:CEST
DTSTART:20200329T010000
END:DAYLIGHT
BEGIN:STANDARD
TZOFFSETFROM:+0200
TZOFFSETTO:+0100
TZNAME:CET
DTSTART:20201025T010000
END:STANDARD
END:VTIMEZONE
BEGIN:VEVENT
DTSTART;TZID=Europe/Rome:20200414T204500
DTEND;TZID=Europe/Rome:20200414T230000
DTSTAMP:20260419T225034
CREATED:20200302T110811Z
LAST-MODIFIED:20200302T110811Z
UID:27595-1586897100-1586905200@www.lega-pro.com
SUMMARY:RECUPERO 11^ GIORNATA RIT.
DESCRIPTION:GIRONE A\nALBINOLEFFE – OLBIA Ore 20.45\nAREZZO – PRO VERCELLI Ore 20.45\nCOMO – CARRARESE Ore 20.45\nGOZZANO – MONZA Ore 20.45\nJUVENTUS U23 – LECCO Ore 20.45\nNOVARA – RENATE Ore 20.45\nPERGOLETTESE – GIANA ERMINIO Ore 20.45\nPIANESE – ROBUR SIENA Ore 20.45\nPISTOIESE – ALESSANDRIA Ore 20.45\nPRO PATRIA – PONTEDERA Ore 20.45
URL:https://www.lega-pro.com/event/recupero-11-giornata-rit/
END:VEVENT
END:VCALENDAR