BEGIN:VCALENDAR
VERSION:2.0
PRODID:-//LEGA PRO - ECPv5.7.1//NONSGML v1.0//EN
CALSCALE:GREGORIAN
METHOD:PUBLISH
X-WR-CALNAME:LEGA PRO
X-ORIGINAL-URL:https://www.lega-pro.com
X-WR-CALDESC:Eventi per LEGA PRO
BEGIN:VTIMEZONE
TZID:Europe/Rome
BEGIN:DAYLIGHT
TZOFFSETFROM:+0100
TZOFFSETTO:+0200
TZNAME:CEST
DTSTART:20200329T010000
END:DAYLIGHT
BEGIN:STANDARD
TZOFFSETFROM:+0200
TZOFFSETTO:+0100
TZNAME:CET
DTSTART:20201025T010000
END:STANDARD
END:VTIMEZONE
BEGIN:VEVENT
DTSTART;TZID=Europe/Rome:20200713T203000
DTEND;TZID=Europe/Rome:20200713T230000
DTSTAMP:20260422T234128
CREATED:20200611T081246Z
LAST-MODIFIED:20200721T130917Z
UID:28511-1594672200-1594681200@www.lega-pro.com
SUMMARY:PLAY OFF NAZIONALE
DESCRIPTION:2° Turno – Gara Unica \nGARA 1\nREGGIO AUDACE – POTENZA Ore 20.45 (Diretta RAI SPORT) \nGARA 2\nBARI – TERNANA Ore 20.30 \nGARA 3\nCARRARESE – JUVENTUS U23 Ore 20.30 \nGARA 4\nCARPI – NOVARA Ore 20.30
URL:https://www.lega-pro.com/event/play-off-nazionale-6/
END:VEVENT
END:VCALENDAR