BEGIN:VCALENDAR
VERSION:2.0
PRODID:-//LEGA PRO - ECPv5.7.1//NONSGML v1.0//EN
CALSCALE:GREGORIAN
METHOD:PUBLISH
X-WR-CALNAME:LEGA PRO
X-ORIGINAL-URL:https://www.lega-pro.com
X-WR-CALDESC:Eventi per LEGA PRO
BEGIN:VTIMEZONE
TZID:Europe/Rome
BEGIN:DAYLIGHT
TZOFFSETFROM:+0100
TZOFFSETTO:+0200
TZNAME:CEST
DTSTART:20200329T010000
END:DAYLIGHT
BEGIN:STANDARD
TZOFFSETFROM:+0200
TZOFFSETTO:+0100
TZNAME:CET
DTSTART:20201025T010000
END:STANDARD
END:VTIMEZONE
BEGIN:VEVENT
DTSTART;TZID=Europe/Rome:20200630T203000
DTEND;TZID=Europe/Rome:20200630T230000
DTSTAMP:20260422T172940
CREATED:20200622T122057Z
LAST-MODIFIED:20200629T114442Z
UID:28601-1593549000-1593558000@www.lega-pro.com
SUMMARY:PLAY OFF DEL GIRONE
DESCRIPTION:1° Turno – Gara Unica \nGIRONE A\nNOVARA – ALBINOLEFFE Ore 20.30 \nGIRONE B\nPADOVA – SAMBENEDETTESE Ore 20.45  (Diretta RAI SPORT) \nGIRONE C\nCATANIA – VIRTUS FRANCAVILLA Ore 20.30\nCATANZARO – TERAMO Ore 20.30 \n  \n 
URL:https://www.lega-pro.com/event/play-off-del-girone-3/
END:VEVENT
END:VCALENDAR