BEGIN:VCALENDAR
VERSION:2.0
PRODID:-//LEGA PRO - ECPv5.7.1//NONSGML v1.0//EN
CALSCALE:GREGORIAN
METHOD:PUBLISH
X-WR-CALNAME:LEGA PRO
X-ORIGINAL-URL:https://www.lega-pro.com
X-WR-CALDESC:Eventi per LEGA PRO
BEGIN:VTIMEZONE
TZID:Europe/Rome
BEGIN:DAYLIGHT
TZOFFSETFROM:+0100
TZOFFSETTO:+0200
TZNAME:CEST
DTSTART:20200329T010000
END:DAYLIGHT
BEGIN:STANDARD
TZOFFSETFROM:+0200
TZOFFSETTO:+0100
TZNAME:CET
DTSTART:20201025T010000
END:STANDARD
END:VTIMEZONE
BEGIN:VEVENT
DTSTART;TZID=Europe/Rome:20200705T200000
DTEND;TZID=Europe/Rome:20200705T233000
DTSTAMP:20260422T203748
CREATED:20200611T080929Z
LAST-MODIFIED:20200702T124356Z
UID:28507-1593979200-1593991800@www.lega-pro.com
SUMMARY:PLAY OFF DEL GIRONE
DESCRIPTION:2° Turno – Gara Unica \nGIRONE A\nALESSANDRIA-ROBUR SIENA Ore 20.30 \nGIRONE B\nSUDTIROL–TRIESTINA Ore 20.00\nPADOVA–FERALPISALÒ Ore 20.45 \nGIRONE C\nPOTENZA–CATANZARO Ore 20.45 (Diretta RAI SPORT)\nTERNANA–CATANIA Ore 20.30
URL:https://www.lega-pro.com/event/play-off-del-girone-2/
END:VEVENT
END:VCALENDAR