BEGIN:VCALENDAR
VERSION:2.0
PRODID:-//LEGA PRO - ECPv5.7.1//NONSGML v1.0//EN
CALSCALE:GREGORIAN
METHOD:PUBLISH
X-WR-CALNAME:LEGA PRO
X-ORIGINAL-URL:https://www.lega-pro.com
X-WR-CALDESC:Eventi per LEGA PRO
BEGIN:VTIMEZONE
TZID:Europe/Rome
BEGIN:DAYLIGHT
TZOFFSETFROM:+0100
TZOFFSETTO:+0200
TZNAME:CEST
DTSTART:20230326T010000
END:DAYLIGHT
BEGIN:STANDARD
TZOFFSETFROM:+0200
TZOFFSETTO:+0100
TZNAME:CET
DTSTART:20231029T010000
END:STANDARD
END:VTIMEZONE
BEGIN:VEVENT
DTSTART;TZID=Europe/Rome:20231130T180000
DTEND;TZID=Europe/Rome:20231130T200000
DTSTAMP:20260424T031306
CREATED:20231113T152128Z
LAST-MODIFIED:20231113T152128Z
UID:51062-1701367200-1701374400@www.lega-pro.com
SUMMARY:OTTAVI COPPA ITALIA
DESCRIPTION:Gruppo A\nGara O1\nPADOVA – LUMEZZANE Ore 18.00
URL:https://www.lega-pro.com/event/ottavi-coppa-italia-7/
END:VEVENT
END:VCALENDAR