BEGIN:VCALENDAR
VERSION:2.0
PRODID:-//LEGA PRO - ECPv5.7.1//NONSGML v1.0//EN
CALSCALE:GREGORIAN
METHOD:PUBLISH
X-WR-CALNAME:LEGA PRO
X-ORIGINAL-URL:https://www.lega-pro.com
X-WR-CALDESC:Eventi per LEGA PRO
BEGIN:VTIMEZONE
TZID:Europe/Rome
BEGIN:DAYLIGHT
TZOFFSETFROM:+0100
TZOFFSETTO:+0200
TZNAME:CEST
DTSTART:20230326T010000
END:DAYLIGHT
BEGIN:STANDARD
TZOFFSETFROM:+0200
TZOFFSETTO:+0100
TZNAME:CET
DTSTART:20231029T010000
END:STANDARD
END:VTIMEZONE
BEGIN:VEVENT
DTSTART;TZID=Europe/Rome:20231128T161500
DTEND;TZID=Europe/Rome:20231128T230000
DTSTAMP:20260424T064018
CREATED:20231113T152023Z
LAST-MODIFIED:20231113T152226Z
UID:51058-1701188100-1701212400@www.lega-pro.com
SUMMARY:OTTAVI COPPA ITALIA
DESCRIPTION:Gruppo A\nGara O2\nL.R. VICENZA – TRIESTINA Ore 21.00 – Diretta Rai Sport \nGruppo B\nGara O3\nLUCCHESE – JUVENTUS NEXT GEN Ore 16.15 \nGara O4\nVIRTUS ENTELLA – PONTEDERA Ore 18.00 \nGruppo C\nGara O5\nPESCARA – LATINA Ore 18.00 \nGruppo B\nGara O6\nCESENA – RIMINI Ore 21.00
URL:https://www.lega-pro.com/event/ottavi-coppa-italia-5/
END:VEVENT
END:VCALENDAR