BEGIN:VCALENDAR
VERSION:2.0
PRODID:-//LEGA PRO - ECPv5.7.1//NONSGML v1.0//EN
CALSCALE:GREGORIAN
METHOD:PUBLISH
X-WR-CALNAME:LEGA PRO
X-ORIGINAL-URL:https://www.lega-pro.com
X-WR-CALDESC:Eventi per LEGA PRO
BEGIN:VTIMEZONE
TZID:Europe/Rome
BEGIN:DAYLIGHT
TZOFFSETFROM:+0100
TZOFFSETTO:+0200
TZNAME:CEST
DTSTART:20200329T010000
END:DAYLIGHT
BEGIN:STANDARD
TZOFFSETFROM:+0200
TZOFFSETTO:+0100
TZNAME:CET
DTSTART:20201025T010000
END:STANDARD
END:VTIMEZONE
BEGIN:VEVENT
DTSTART;TZID=Europe/Rome:20200422T000000
DTEND;TZID=Europe/Rome:20200422T000000
DTSTAMP:20260420T054947
CREATED:20200219T124137Z
LAST-MODIFIED:20200302T102354Z
UID:27396-1587513600-1587513600@www.lega-pro.com
SUMMARY:FINALE COPPA ITALIA
DESCRIPTION:Finale Ritorno Coppa Italia Serie C \nJUVENTUS U23 – TERNANA
URL:https://www.lega-pro.com/event/finale-coppa-italia-2/
END:VEVENT
END:VCALENDAR