BEGIN:VCALENDAR
VERSION:2.0
PRODID:-//LEGA PRO - ECPv5.7.1//NONSGML v1.0//EN
CALSCALE:GREGORIAN
METHOD:PUBLISH
X-WR-CALNAME:LEGA PRO
X-ORIGINAL-URL:https://www.lega-pro.com
X-WR-CALDESC:Eventi per LEGA PRO
BEGIN:VTIMEZONE
TZID:Europe/Rome
BEGIN:DAYLIGHT
TZOFFSETFROM:+0100
TZOFFSETTO:+0200
TZNAME:CEST
DTSTART:20200329T010000
END:DAYLIGHT
BEGIN:STANDARD
TZOFFSETFROM:+0200
TZOFFSETTO:+0100
TZNAME:CET
DTSTART:20201025T010000
END:STANDARD
END:VTIMEZONE
BEGIN:VEVENT
DTSTART;TZID=Europe/Rome:20200717T203000
DTEND;TZID=Europe/Rome:20200717T230000
DTSTAMP:20260423T030413
CREATED:20200611T081319Z
LAST-MODIFIED:20200721T131043Z
UID:28513-1595017800-1595026800@www.lega-pro.com
SUMMARY:FINAL FOUR
DESCRIPTION:Semifinali – gara unica \nSEMIFINALE “A”\nREGGIO AUDACE – NOVARA Ore 20.30 \nSEMIFINALE “B”\nBARI – CARRARESE Ore 20.45 (Diretta RAI SPORT)
URL:https://www.lega-pro.com/event/final-four-4/
END:VEVENT
END:VCALENDAR