BEGIN:VCALENDAR
VERSION:2.0
PRODID:-//LEGA PRO - ECPv5.7.1//NONSGML v1.0//EN
CALSCALE:GREGORIAN
METHOD:PUBLISH
X-WR-CALNAME:LEGA PRO
X-ORIGINAL-URL:https://www.lega-pro.com
X-WR-CALDESC:Eventi per LEGA PRO
BEGIN:VTIMEZONE
TZID:Europe/Rome
BEGIN:DAYLIGHT
TZOFFSETFROM:+0100
TZOFFSETTO:+0200
TZNAME:CEST
DTSTART:20230326T010000
END:DAYLIGHT
BEGIN:STANDARD
TZOFFSETFROM:+0200
TZOFFSETTO:+0100
TZNAME:CET
DTSTART:20231029T010000
END:STANDARD
END:VTIMEZONE
BEGIN:VEVENT
DTSTART;TZID=Europe/Rome:20231109T170000
DTEND;TZID=Europe/Rome:20231109T230000
DTSTAMP:20260425T025438
CREATED:20231025T142648Z
LAST-MODIFIED:20231025T142648Z
UID:50803-1699549200-1699570800@www.lega-pro.com
SUMMARY:COPPA ITALIA
DESCRIPTION:SECONDO TURNO ELIMINATORIO\nGruppo B\nGara S6\nNOVARA – PONTEDERA Ore 18.30\nGara S8\nSPAL – LUCCHESE Ore 20.45 \nGruppo C\nGara S9\nRIMINI – PERUGIA Ore 17.00\nGara S10\nPESCARA – PINETO Ore 18.30
URL:https://www.lega-pro.com/event/coppa-italia-8/
END:VEVENT
END:VCALENDAR