BEGIN:VCALENDAR
VERSION:2.0
PRODID:-//LEGA PRO - ECPv5.7.1//NONSGML v1.0//EN
CALSCALE:GREGORIAN
METHOD:PUBLISH
X-WR-CALNAME:LEGA PRO
X-ORIGINAL-URL:https://www.lega-pro.com
X-WR-CALDESC:Eventi per LEGA PRO
BEGIN:VTIMEZONE
TZID:Europe/Rome
BEGIN:DAYLIGHT
TZOFFSETFROM:+0100
TZOFFSETTO:+0200
TZNAME:CEST
DTSTART:20230326T010000
END:DAYLIGHT
BEGIN:STANDARD
TZOFFSETFROM:+0200
TZOFFSETTO:+0100
TZNAME:CET
DTSTART:20231029T010000
END:STANDARD
END:VTIMEZONE
BEGIN:VEVENT
DTSTART;TZID=Europe/Rome:20231108T140000
DTEND;TZID=Europe/Rome:20231108T230000
DTSTAMP:20260425T061341
CREATED:20231025T142555Z
LAST-MODIFIED:20231025T142555Z
UID:50801-1699452000-1699484400@www.lega-pro.com
SUMMARY:COPPA ITALIA
DESCRIPTION:SECONDO TURNO ELIMINATORIO\nGruppo B\nGara S5\nJUVENTUS NEXT GEN – TORRES Ore 14.00\nGara S7\nVIRTUS ENTELLA – ALESSANDRIA Ore 18.30 \nGruppo C\nGara S11\nGIUGLIANO – LATINA Ore 16.15\nGara S12\nCESENA – VIS PESARO Ore 20.45 \nGruppo D\nGara S13\nAVELLINO – FOGGIA Ore 18.30\nGara S14\nCROTONE – BRINDISI Ore 14.00\nGara S15\nCATANIA – PICERNO Ore 20.45\nGara S16\nTURRIS – JUVE STABIA Ore 20.45
URL:https://www.lega-pro.com/event/coppa-italia-7/
END:VEVENT
END:VCALENDAR