BEGIN:VCALENDAR
VERSION:2.0
PRODID:-//LEGA PRO - ECPv5.7.1//NONSGML v1.0//EN
CALSCALE:GREGORIAN
METHOD:PUBLISH
X-WR-CALNAME:LEGA PRO
X-ORIGINAL-URL:https://www.lega-pro.com
X-WR-CALDESC:Eventi per LEGA PRO
BEGIN:VTIMEZONE
TZID:Europe/Rome
BEGIN:DAYLIGHT
TZOFFSETFROM:+0100
TZOFFSETTO:+0200
TZNAME:CEST
DTSTART:20230326T010000
END:DAYLIGHT
BEGIN:STANDARD
TZOFFSETFROM:+0200
TZOFFSETTO:+0100
TZNAME:CET
DTSTART:20231029T010000
END:STANDARD
END:VTIMEZONE
BEGIN:VEVENT
DTSTART;TZID=Europe/Rome:20231206T161500
DTEND;TZID=Europe/Rome:20231206T200000
DTSTAMP:20260423T183212
CREATED:20231113T072117Z
LAST-MODIFIED:20231120T150759Z
UID:51037-1701879300-1701892800@www.lega-pro.com
SUMMARY:8^-14^ GIORNATA
DESCRIPTION:GIRONE B\nLUCCHESE – JUVENTUS NEXT GEN Ore 16.15 \nGIRONE B\nOLBIA – RIMINI Ore 18.00
URL:https://www.lega-pro.com/event/8-giornata-18/
END:VEVENT
END:VCALENDAR