BEGIN:VCALENDAR
VERSION:2.0
PRODID:-//LEGA PRO - ECPv5.7.1//NONSGML v1.0//EN
CALSCALE:GREGORIAN
METHOD:PUBLISH
X-WR-CALNAME:LEGA PRO
X-ORIGINAL-URL:https://www.lega-pro.com
X-WR-CALDESC:Eventi per LEGA PRO
BEGIN:VTIMEZONE
TZID:Europe/Rome
BEGIN:DAYLIGHT
TZOFFSETFROM:+0100
TZOFFSETTO:+0200
TZNAME:CEST
DTSTART:20230326T010000
END:DAYLIGHT
BEGIN:STANDARD
TZOFFSETFROM:+0200
TZOFFSETTO:+0100
TZNAME:CET
DTSTART:20231029T010000
END:STANDARD
END:VTIMEZONE
BEGIN:VEVENT
DTSTART;TZID=Europe/Rome:20231102T183000
DTEND;TZID=Europe/Rome:20231102T203000
DTSTAMP:20260425T163328
CREATED:20231009T063949Z
LAST-MODIFIED:20231009T063949Z
UID:50489-1698949800-1698957000@www.lega-pro.com
SUMMARY:8^ GIORNATA
DESCRIPTION:GIRONE B\nOLBIA – PINETO Ore 18.30
URL:https://www.lega-pro.com/event/8-giornata-17/
END:VEVENT
END:VCALENDAR