BEGIN:VCALENDAR
VERSION:2.0
PRODID:-//LEGA PRO - ECPv5.7.1//NONSGML v1.0//EN
CALSCALE:GREGORIAN
METHOD:PUBLISH
X-WR-CALNAME:LEGA PRO
X-ORIGINAL-URL:https://www.lega-pro.com
X-WR-CALDESC:Eventi per LEGA PRO
BEGIN:VTIMEZONE
TZID:Europe/Rome
BEGIN:DAYLIGHT
TZOFFSETFROM:+0100
TZOFFSETTO:+0200
TZNAME:CEST
DTSTART:20200329T010000
END:DAYLIGHT
BEGIN:STANDARD
TZOFFSETFROM:+0200
TZOFFSETTO:+0100
TZNAME:CET
DTSTART:20201025T010000
END:STANDARD
END:VTIMEZONE
BEGIN:VEVENT
DTSTART;TZID=Europe/Rome:20201025T150000
DTEND;TZID=Europe/Rome:20201025T203000
DTSTAMP:20260424T114830
CREATED:20200929T125338Z
LAST-MODIFIED:20201025T082659Z
UID:30411-1603638000-1603657800@www.lega-pro.com
SUMMARY:7^ GIORNATA
DESCRIPTION:GIRONE A\nALESSANDRIA – PONTEDERA Ore 20.30\nGIANA ERMINIO – COMO Ore 17.30\nGROSSETO – ALBINOLEFFE  Ore 15.00\nLECCO – PIACENZA  Ore 17.30\nLUCCHESE – JUVENTUS U23  Ore 20.00\nNOVARA – CARRARESE  Ore 20.30\nOLBIA – PRO VERCELLI  Ore 12.30\nPERGOLETTESE – PRO PATRIA  Ore 17.30\nPISTOIESE – PRO SESTO  Ore 15.00\nRENATE – LIVORNO  Ore 15.00 \nGIRONE B\nA.J. FANO – MANTOVA  Ore 15.00\nFERALPISALÒ – RAVENNA  Ore 15.00\nGUBBIO – LEGNAGO SALUS  Ore 20.30\nIMOLESE – FERMANA  Ore 17.30\nMATELICA – AREZZO  Ore 17.30\nPADOVA – SUDTIROL  Ore 17.30\nPERUGIA – VIS PESARO  Ore 17.30\nSAMBENEDETTESE – MODENA  Ore 15.00\nTRIESTINA – VIRTUSVECOMP VERONA  Ore 15.00 \nGIRONE C\nAVELLINO – CASERTANA  Ore 17.30\nCAVESE -MONOPOLI  Ore 15.00\nTERAMO – JUVE STABIA  Ore 18.30\nTERNANA – FOGGIA Ora 17.30\nTURRIS – PAGANESE  Ore 20.30\nVIBONESE – VITERBESE  Ore 20.30
URL:https://www.lega-pro.com/event/7-giornata-2/
END:VEVENT
END:VCALENDAR