BEGIN:VCALENDAR
VERSION:2.0
PRODID:-//LEGA PRO - ECPv5.7.1//NONSGML v1.0//EN
CALSCALE:GREGORIAN
METHOD:PUBLISH
X-WR-CALNAME:LEGA PRO
X-ORIGINAL-URL:https://www.lega-pro.com
X-WR-CALDESC:Eventi per LEGA PRO
BEGIN:VTIMEZONE
TZID:Europe/Rome
BEGIN:DAYLIGHT
TZOFFSETFROM:+0100
TZOFFSETTO:+0200
TZNAME:CEST
DTSTART:20200329T010000
END:DAYLIGHT
BEGIN:STANDARD
TZOFFSETFROM:+0200
TZOFFSETTO:+0100
TZNAME:CET
DTSTART:20201025T010000
END:STANDARD
END:VTIMEZONE
BEGIN:VEVENT
DTSTART;TZID=Europe/Rome:20201021T183000
DTEND;TZID=Europe/Rome:20201021T230000
DTSTAMP:20260424T063901
CREATED:20200929T124356Z
LAST-MODIFIED:20201021T163505Z
UID:30405-1603305000-1603321200@www.lega-pro.com
SUMMARY:6^ GIORNATA
DESCRIPTION:GIRONE A\nALBINOLEFFE -RENATE  Ore 17.30\nALESSANDRIA – GROSSETO  Ore 18.30\nCARRARESE – PISTOIESE  Ore 20.45\nLIVORNO – NOVARA  Ore 18.30\nPIACENZA – OLBIA  Ore 15.00\nPONTEDERA -LECCO  Ore 20.30\nPRO SESTO – GIANA ERMINIO  Ore 20.45\nPRO VERCELLI -JUVENTUS U23  Ore 20.45 \nGIRONE B\nAREZZO – PADOVA  Ore 18.30\nCESENA – A.J. FANO Ore 20.45\nFERMANA – GUBBIO  Ore 20.45\nIMOLESE – SAMBENEDETTESE  Ore 20.45\nLEGNAGO SALUS – PERUGIA  Ore 18.30\nMANTOVA – MATELICA  Ore 18.00\nMODENA – FERALPISALÒ  Ore 20.30  (Diretta Rai Sport)\nRAVENNA – VIRTUSVECOMP VERONA  Ore 20.45\nSUDTIROL – CARPI  Ore 15.00\nVIS PESARO – TRIESTINA  Ore 18.30 \nGIRONE C\nCASERTANA – CATANZARO  Ore 17.30\nCATANIA – TERNANA  Ore 20.45\nMONOPOLI – BARI  Ore 20.45\nPAGANESE – VIRTUS FRANCAVILLA  Ore 15.00\nPALERMO – TURRIS  rinviata\nPOTENZA – TERAMO  Ore 18.30\nVITERBESE – BISCEGLIE Ora 20.30 \n 
URL:https://www.lega-pro.com/event/6-giornata/
END:VEVENT
END:VCALENDAR