BEGIN:VCALENDAR
VERSION:2.0
PRODID:-//LEGA PRO - ECPv5.7.1//NONSGML v1.0//EN
CALSCALE:GREGORIAN
METHOD:PUBLISH
X-WR-CALNAME:LEGA PRO
X-ORIGINAL-URL:https://www.lega-pro.com
X-WR-CALDESC:Eventi per LEGA PRO
BEGIN:VTIMEZONE
TZID:Europe/Rome
BEGIN:DAYLIGHT
TZOFFSETFROM:+0100
TZOFFSETTO:+0200
TZNAME:CEST
DTSTART:20200329T010000
END:DAYLIGHT
BEGIN:STANDARD
TZOFFSETFROM:+0200
TZOFFSETTO:+0100
TZNAME:CET
DTSTART:20201025T010000
END:STANDARD
END:VTIMEZONE
BEGIN:VEVENT
DTSTART;TZID=Europe/Rome:20201017T150000
DTEND;TZID=Europe/Rome:20201017T230000
DTSTAMP:20260424T012031
CREATED:20200929T120600Z
LAST-MODIFIED:20201012T102804Z
UID:30399-1602946800-1602975600@www.lega-pro.com
SUMMARY:5^ GIORNATA
DESCRIPTION:GIRONE A\nGROSSETO – PRO VERCELLI Ore 18.30\nJUVENTUS U23 – ALBINOLEFFE Ore 20.45\nLECCO-CARRARESE  Ore 16.00\nGIRONE B\nFERALPISALO’ – SUDTIROL Ore 17.30\nMATELICA – MODENA Ore 15.00\nTRIESTINA – RAVENNA Ore 15.00\nVIRTUSVECOMP VERONA – VIS PESARO Ore 15.00\nGIRONE C\nTERNANA – POTENZA Ore 15.00\nVIBONESE – PAGANESE Ore 15.00
URL:https://www.lega-pro.com/event/5-giornata/
END:VEVENT
END:VCALENDAR