BEGIN:VCALENDAR
VERSION:2.0
PRODID:-//LEGA PRO - ECPv5.7.1//NONSGML v1.0//EN
CALSCALE:GREGORIAN
METHOD:PUBLISH
X-WR-CALNAME:LEGA PRO
X-ORIGINAL-URL:https://www.lega-pro.com
X-WR-CALDESC:Eventi per LEGA PRO
BEGIN:VTIMEZONE
TZID:Europe/Rome
BEGIN:DAYLIGHT
TZOFFSETFROM:+0100
TZOFFSETTO:+0200
TZNAME:CEST
DTSTART:20240331T010000
END:DAYLIGHT
BEGIN:STANDARD
TZOFFSETFROM:+0200
TZOFFSETTO:+0100
TZNAME:CET
DTSTART:20241027T010000
END:STANDARD
END:VTIMEZONE
BEGIN:VEVENT
DTSTART;TZID=Europe/Rome:20240202T204500
DTEND;TZID=Europe/Rome:20240202T230000
DTSTAMP:20260419T161801
CREATED:20240102T140841Z
LAST-MODIFIED:20240124T091304Z
UID:51765-1706906700-1706914800@www.lega-pro.com
SUMMARY:5^ GIORNATA RIT.
DESCRIPTION:GIRONE B\nVIS PESARO – GUBBIO Ore 20.45 \nGIRONE C\nFOGGIA – CATANIA Ore 20.45\nJUVE STABIA – AUDACE CERIGNOLA Ore 20.45\nLATINA – GIUGLIANO Ore 20.45\nPICERNO – TURRIS Ore 20.45
URL:https://www.lega-pro.com/event/5-giornata-rit-13/
END:VEVENT
END:VCALENDAR