BEGIN:VCALENDAR
VERSION:2.0
PRODID:-//LEGA PRO - ECPv5.7.1//NONSGML v1.0//EN
CALSCALE:GREGORIAN
METHOD:PUBLISH
X-WR-CALNAME:LEGA PRO
X-ORIGINAL-URL:https://www.lega-pro.com
X-WR-CALDESC:Eventi per LEGA PRO
BEGIN:VTIMEZONE
TZID:Europe/Rome
BEGIN:DAYLIGHT
TZOFFSETFROM:+0100
TZOFFSETTO:+0200
TZNAME:CEST
DTSTART:20240331T010000
END:DAYLIGHT
BEGIN:STANDARD
TZOFFSETFROM:+0200
TZOFFSETTO:+0100
TZNAME:CET
DTSTART:20241027T010000
END:STANDARD
END:VTIMEZONE
BEGIN:VEVENT
DTSTART;TZID=Europe/Rome:20240126T204500
DTEND;TZID=Europe/Rome:20240126T230000
DTSTAMP:20260420T010500
CREATED:20240102T105155Z
LAST-MODIFIED:20240102T140742Z
UID:51746-1706301900-1706310000@www.lega-pro.com
SUMMARY:4^ GIORNATA RIT.
DESCRIPTION:GIRONE A\nMANTOVA – GIANA ERMINIO Ore 20.45 \nGIRONE B\nRECANATESE – FERMANA Ore 20.45 \nGIRONE C\nVIRTUS FRANCAVILLA – FOGGIA Ore 20.45
URL:https://www.lega-pro.com/event/4-giornata-rit-12/
END:VEVENT
END:VCALENDAR