BEGIN:VCALENDAR
VERSION:2.0
PRODID:-//LEGA PRO - ECPv5.7.1//NONSGML v1.0//EN
CALSCALE:GREGORIAN
METHOD:PUBLISH
X-WR-CALNAME:LEGA PRO
X-ORIGINAL-URL:https://www.lega-pro.com
X-WR-CALDESC:Eventi per LEGA PRO
BEGIN:VTIMEZONE
TZID:Europe/Rome
BEGIN:DAYLIGHT
TZOFFSETFROM:+0100
TZOFFSETTO:+0200
TZNAME:CEST
DTSTART:20200329T010000
END:DAYLIGHT
BEGIN:STANDARD
TZOFFSETFROM:+0200
TZOFFSETTO:+0100
TZNAME:CET
DTSTART:20201025T010000
END:STANDARD
END:VTIMEZONE
BEGIN:VEVENT
DTSTART;TZID=Europe/Rome:20201011T150000
DTEND;TZID=Europe/Rome:20201011T220000
DTSTAMP:20260423T195220
CREATED:20200928T132934Z
LAST-MODIFIED:20201011T082225Z
UID:30385-1602428400-1602453600@www.lega-pro.com
SUMMARY:4^ GIORNATA
DESCRIPTION:GIRONE A\nCARRARESE – PIACENZA Ore 19.30\nCOMO – LECCO Ore 17.30\nPONTEDERA – RENATE Ore 15.00\nPRO PATRIA – PISTOIESE Ore 15.00\nPRO SESTO – OLBIA Ore 15.00\nPRO VERCELLI – LUCCHESE Ore 17.30\nPERGOLETTESE – GROSSETO Ore 20.45 \nGIRONE B\nA.J. FANO – SAMBENEDETTESE Ore 17.30\nAREZZO – VIRTUSVECOMP VERONA Ore 17.30\nCESENA – FERALPISALÒ Ore 15.00\nFERMANA – PADOVA Ore 15.00\nIMOLESE – CARPI Ore 17.30\nLEGNAGO SALUS – TRIESTINA Ore 15.00\nMANTOVA – PERUGIA Ore 15.00\nMODENA – RAVENNA Ore 17.30\nSUDTIROL – GUBBIO Ore 15.00\nVIS PESARO – MATELICA Ore 17.30 \nGIRONE C\nCASERTANA – TERNANA Ore 17.30\nBISCEGLIE – TURRIS Ora 20.00\nFOGGIA – PONTEZA Ora 20.45\nJUVE STABIA – VIRTUS FRANCAVILLA Ore 15.00\nMONOPOLI – TERAMO Ore 15.00\nPAGANESE – CAVESE Ore 17.30\nPALERMO – AVELLINO Ore 15.00\nVIBONESE – CATANZARO Ore 15.00\nVITERBESE – BARI Ore 15.00
URL:https://www.lega-pro.com/event/4-giornata-2/
END:VEVENT
END:VCALENDAR