BEGIN:VCALENDAR
VERSION:2.0
PRODID:-//LEGA PRO - ECPv5.7.1//NONSGML v1.0//EN
CALSCALE:GREGORIAN
METHOD:PUBLISH
X-WR-CALNAME:LEGA PRO
X-ORIGINAL-URL:https://www.lega-pro.com
X-WR-CALDESC:Eventi per LEGA PRO
BEGIN:VTIMEZONE
TZID:Europe/Rome
BEGIN:DAYLIGHT
TZOFFSETFROM:+0100
TZOFFSETTO:+0200
TZNAME:CEST
DTSTART:20240331T010000
END:DAYLIGHT
BEGIN:STANDARD
TZOFFSETFROM:+0200
TZOFFSETTO:+0100
TZNAME:CET
DTSTART:20241027T010000
END:STANDARD
END:VTIMEZONE
BEGIN:VEVENT
DTSTART;TZID=Europe/Rome:20240119T204500
DTEND;TZID=Europe/Rome:20240119T230000
DTSTAMP:20260420T080247
CREATED:20240102T103544Z
LAST-MODIFIED:20240102T140709Z
UID:51738-1705697100-1705705200@www.lega-pro.com
SUMMARY:3^ GIORNATA RIT.
DESCRIPTION:GIRONE C\nLATINA – MONTEROSI TUSCIA Ore 20.45
URL:https://www.lega-pro.com/event/3-giornata-rit-14/
END:VEVENT
END:VCALENDAR