BEGIN:VCALENDAR
VERSION:2.0
PRODID:-//LEGA PRO - ECPv5.7.1//NONSGML v1.0//EN
CALSCALE:GREGORIAN
METHOD:PUBLISH
X-WR-CALNAME:LEGA PRO
X-ORIGINAL-URL:https://www.lega-pro.com
X-WR-CALDESC:Eventi per LEGA PRO
BEGIN:VTIMEZONE
TZID:Europe/Rome
BEGIN:DAYLIGHT
TZOFFSETFROM:+0100
TZOFFSETTO:+0200
TZNAME:CEST
DTSTART:20240331T010000
END:DAYLIGHT
BEGIN:STANDARD
TZOFFSETFROM:+0200
TZOFFSETTO:+0100
TZNAME:CET
DTSTART:20241027T010000
END:STANDARD
END:VTIMEZONE
BEGIN:VEVENT
DTSTART;TZID=Europe/Rome:20240113T161500
DTEND;TZID=Europe/Rome:20240113T230000
DTSTAMP:20260422T124003
CREATED:20240102T093802Z
LAST-MODIFIED:20240102T093802Z
UID:51729-1705162500-1705186800@www.lega-pro.com
SUMMARY:2^ GIORNATA RIT.
DESCRIPTION:GIRONE A\nATALANTA U23 – TRENTO Ore 18.30\nFIORENZUOLA – PRO SESTO Ore 18.30\nPRO PATRIA – NOVARA Ore 18.30\nPRO VERCELLI – RENATE Ore 16.15\nTRIESTINA – ALBINOLEFFE Ore 18.30 \nGIRONE B\nPONTEDERA – FERMANA Ore 16.15 \nGIRONE C\nAVELLINO – JUVE STABIA Ore 20.45\nCATANIA – BRINDISI Ore 20.45\nMONTEROSI TUSCIA – MONOPOLI Ore 20.45\nPOTENZA – LATINA Ore 16.15\nTURRIS – CROTONE Ore 18.30\nVIRTUS FRANCAVILLA – BENEVENTO Ore 20.45
URL:https://www.lega-pro.com/event/2-giornata-rit-14/
END:VEVENT
END:VCALENDAR