BEGIN:VCALENDAR
VERSION:2.0
PRODID:-//LEGA PRO - ECPv5.7.1//NONSGML v1.0//EN
CALSCALE:GREGORIAN
METHOD:PUBLISH
X-WR-CALNAME:LEGA PRO
X-ORIGINAL-URL:https://www.lega-pro.com
X-WR-CALDESC:Eventi per LEGA PRO
BEGIN:VTIMEZONE
TZID:Europe/Rome
BEGIN:DAYLIGHT
TZOFFSETFROM:+0100
TZOFFSETTO:+0200
TZNAME:CEST
DTSTART:20200329T010000
END:DAYLIGHT
BEGIN:STANDARD
TZOFFSETFROM:+0200
TZOFFSETTO:+0100
TZNAME:CET
DTSTART:20201025T010000
END:STANDARD
END:VTIMEZONE
BEGIN:VEVENT
DTSTART;TZID=Europe/Rome:20201004T150000
DTEND;TZID=Europe/Rome:20201004T193000
DTSTAMP:20260423T131556
CREATED:20200928T124438Z
LAST-MODIFIED:20201004T055815Z
UID:30374-1601823600-1601839800@www.lega-pro.com
SUMMARY:2^ GIORNATA
DESCRIPTION:GIRONE A\nALESSANDRIA – OLBIA Ore 15.00\nGROSSETO – RENATE Ore 18.00\nNOVARA – LUCCHESE Ore 17.30\nPERGOLETTESE – ALBINOLEFFE Ore 17.30\nPONTEDERA – PIACENZA Ore 15.00\nPRO PATRIA – PRO VERCELLI Ore 17.30\nPRO SESTO – CARRARESE Ore 15.00 \nGIRONE B\nA.J. FANO – PADOVA Ore 15.00\nCESENA – TRIESTINA Ore 15.00\nIMOLESE – VIRTUSVECOMP VERONA Ore 17.30\nLEGNAGO SALUS – RAVENNA Ore 17.30\nMANTOVA – CARPI Ore 17.30\nMODENA – VIS PESARO Ore 15.00\nSAMBENEDETTESE – GUBBIO Ore 17.30\nSUDTIROL – FERMANA Ore 15.00 \nGIRONE C\nBARI – TERAMO Ore 15.00\nCATANZARO – TRAPANI Ore 17.30\nMONOPOLI – CATANIA Ore 15.00\nPALERMO – POTENZA RINVIATA\nTURRIS – VIRTUS FRANCAVILLA Ore 15.00\nVIBONESE – JUVE STABIA Ore 15.00 \nCASERTANA e CAVESE in attesa di programmazione
URL:https://www.lega-pro.com/event/2-giornata-2/
END:VEVENT
END:VCALENDAR