BEGIN:VCALENDAR
VERSION:2.0
PRODID:-//LEGA PRO - ECPv5.7.1//NONSGML v1.0//EN
CALSCALE:GREGORIAN
METHOD:PUBLISH
X-WR-CALNAME:LEGA PRO
X-ORIGINAL-URL:https://www.lega-pro.com
X-WR-CALDESC:Eventi per LEGA PRO
BEGIN:VTIMEZONE
TZID:Europe/Rome
BEGIN:DAYLIGHT
TZOFFSETFROM:+0100
TZOFFSETTO:+0200
TZNAME:CEST
DTSTART:20200329T010000
END:DAYLIGHT
BEGIN:STANDARD
TZOFFSETFROM:+0200
TZOFFSETTO:+0100
TZNAME:CET
DTSTART:20201025T010000
END:STANDARD
END:VTIMEZONE
BEGIN:VEVENT
DTSTART;TZID=Europe/Rome:20200425T150000
DTEND;TZID=Europe/Rome:20200425T170000
DTSTAMP:20260420T073557
CREATED:20191216T134246Z
LAST-MODIFIED:20191216T134246Z
UID:26518-1587826800-1587834000@www.lega-pro.com
SUMMARY:19^ GIORNATA RIT.
DESCRIPTION:GIRONE C\nAVELLINO – MONOPOLI Ore 15.00\nBARI – CASERTANA Ore 15.00\nCATANIA – TERAMO Ore 15.00\nPAGANESE – POTENZA Ore 15.00\nPICERNO – CATANZARO Ore 15.00\nREGGINA – SICULA LEONZIO Ore 15.00\nRIETI – RENDE Ore 15.00\nTERNANA – CAVESE Ore 15.00\nVIBONESE – BISCEGLIE Ore 15.00\nVIRTUS FRANCAVILLA – VITERBESE CASTRENSE Ore 15.00
URL:https://www.lega-pro.com/event/19-giornata-rit/
END:VEVENT
END:VCALENDAR