BEGIN:VCALENDAR
VERSION:2.0
PRODID:-//LEGA PRO - ECPv5.7.1//NONSGML v1.0//EN
CALSCALE:GREGORIAN
METHOD:PUBLISH
X-WR-CALNAME:LEGA PRO
X-ORIGINAL-URL:https://www.lega-pro.com
X-WR-CALDESC:Eventi per LEGA PRO
BEGIN:VTIMEZONE
TZID:Europe/Rome
BEGIN:DAYLIGHT
TZOFFSETFROM:+0100
TZOFFSETTO:+0200
TZNAME:CEST
DTSTART:20230326T010000
END:DAYLIGHT
BEGIN:STANDARD
TZOFFSETFROM:+0200
TZOFFSETTO:+0100
TZNAME:CET
DTSTART:20231029T010000
END:STANDARD
END:VTIMEZONE
BEGIN:VEVENT
DTSTART;TZID=Europe/Rome:20231223T161500
DTEND;TZID=Europe/Rome:20231223T230000
DTSTAMP:20260422T213132
CREATED:20231025T141735Z
LAST-MODIFIED:20231204T134641Z
UID:50794-1703348100-1703372400@www.lega-pro.com
SUMMARY:19^ GIORNATA
DESCRIPTION:GIRONE A\nLUMEZZANE – ALBINOLEFFE re 14.00\nPERGOLETTESE – GIANA ERMINIO Ore 18.30\nPRO PATRIA – PRO SESTO Ore 14.00\nRENATE – TRENTO Ore 18.30 \nGIRONE B\nJUVENTUS NEXT GEN – VIS PESARO Ore 16.15\nPERUGIA – CESENA Ore 18.30\nPESCARA – FERMANA Ore 20.45\nRECANATESE – VIRTUS ENTELLA Ore 18.30\nSESTRI LEVANTE – AREZZO Ore 18.30\nSPAL – OLBIA Ore 18.30 \nGIRONE C\nBENEVENTO – CATANIA Ore 18.30\nFOGGIA – MONTEROSI TUSCIA Ore 18.30\nGIUGLIANO – AUDACE CERIGNOLA Ore 20.45\nSORRENTO – CASERTANA Ore 16.30 Diretta Rai Sport\nVIRTUS FRANCAVILLA – POTENZA Ore 20.45
URL:https://www.lega-pro.com/event/19-giornata-8/
END:VEVENT
END:VCALENDAR