BEGIN:VCALENDAR
VERSION:2.0
PRODID:-//LEGA PRO - ECPv5.7.1//NONSGML v1.0//EN
CALSCALE:GREGORIAN
METHOD:PUBLISH
X-WR-CALNAME:LEGA PRO
X-ORIGINAL-URL:https://www.lega-pro.com
X-WR-CALDESC:Eventi per LEGA PRO
BEGIN:VTIMEZONE
TZID:Europe/Rome
BEGIN:DAYLIGHT
TZOFFSETFROM:+0100
TZOFFSETTO:+0200
TZNAME:CEST
DTSTART:20200329T010000
END:DAYLIGHT
BEGIN:STANDARD
TZOFFSETFROM:+0200
TZOFFSETTO:+0100
TZNAME:CET
DTSTART:20201025T010000
END:STANDARD
END:VTIMEZONE
BEGIN:VEVENT
DTSTART;TZID=Europe/Rome:20200419T150000
DTEND;TZID=Europe/Rome:20200419T193000
DTSTAMP:20260420T040425
CREATED:20191216T133549Z
LAST-MODIFIED:20191216T133549Z
UID:26516-1587308400-1587324600@www.lega-pro.com
SUMMARY:18^ GIORNATA RIT.
DESCRIPTION:GIRONE B\nA.J. FANO – CESENA Ore 17.30\nARZIGNANO V. – FERMANA Ore 17.30\nCARPI – VIS PESARO Ore 17.30\nFERALPISALÒ – L.R. VICENZA Ore 17.30\nGUBBIO – SAMBENEDETTESE Ore 17.30\nIMOLESE – PADOVA Ore 17.30\nMODENA – TRIESTINA Ore 17.30\nREGGIO AUDACE – VIRTUSVECOMP VERONA Ore 17.30\nRIMINI – PIACENZA Ore 17.30\nSUDTIROL – RAVENNA Ore 17.30 \nGIRONE C\nBISCEGLIE – RIETI Ore 15.00\nCASERTANA – TERNANA Ore 15.00\nCATANZARO – PAGANESE Ore 15.00\nCAVESE – VIRTUS FRANCAVILLA Ore 15.00\nMONOPOLI – PICERNO Ore 15.00\nPOTENZA – BARI Ore 15.00\nRENDE – CATANIA Ore 15.00\nSICULA LEONZIO – AVELLINO Ore 15.00\nTERAMO – VIBONESE Ore 15.00\nVITERBESE CASTRENSE – REGGINA Ore 15.00
URL:https://www.lega-pro.com/event/18-giornata-rit-2/
END:VEVENT
END:VCALENDAR