BEGIN:VCALENDAR
VERSION:2.0
PRODID:-//LEGA PRO - ECPv5.7.1//NONSGML v1.0//EN
CALSCALE:GREGORIAN
METHOD:PUBLISH
X-WR-CALNAME:LEGA PRO
X-ORIGINAL-URL:https://www.lega-pro.com
X-WR-CALDESC:Eventi per LEGA PRO
BEGIN:VTIMEZONE
TZID:Europe/Rome
BEGIN:DAYLIGHT
TZOFFSETFROM:+0100
TZOFFSETTO:+0200
TZNAME:CEST
DTSTART:20200329T010000
END:DAYLIGHT
BEGIN:STANDARD
TZOFFSETFROM:+0200
TZOFFSETTO:+0100
TZNAME:CET
DTSTART:20201025T010000
END:STANDARD
END:VTIMEZONE
BEGIN:VEVENT
DTSTART;TZID=Europe/Rome:20200411T150000
DTEND;TZID=Europe/Rome:20200411T193000
DTSTAMP:20260419T205924
CREATED:20191216T103630Z
LAST-MODIFIED:20191216T103630Z
UID:26506-1586617200-1586633400@www.lega-pro.com
SUMMARY:17^ GIORNATA RIT.
DESCRIPTION:GIRONE A\nALBINOLEFFE – GIANA ERMINIO Ore 17.30\nAREZZO – PISTOIESE Ore 17.30\nJUVENTUS U23 – COMO Ore 15.00\nMONZA – OLBIA Ore 15.00\nPERGOLETTESE – PONTEDERA Ore 15.00\nPIANESE – NOVARA Ore 15.00\nPRO PATRIA – RENATE Ore 17.30\nROBUR SIENA – ALESSANDRIA Ore 15.00 \nGIRONE B\nFERMANA – A.J. FANO Ore 17.30\nL.R. VICENZA – SUDTIROL Ore 17.30\nPADOVA – GUBBIO Ore 17.30\nPIACENZA – REGGIO AUDACE Ore 15.00\nRAVENNA – RIMINI Ore 17.30\nSAMBENEDETTESE – IMOLESE Ore 15.00\nTRIESTINA – CARPI Ore 15.00\nVIS PESARO – MODENA Ore 15.00 \nGIRONE C\nAVELLINO – VITERBESE CASTRENSE Ore 17.30\nBISCEGLIE – CAVESE Ore 17.30\nCATANIA – RIETI Ore 15.00\nPAGANESE – CASERTANA Ore 17.30\nREGGINA – TERAMO Ore 15.00\nTERNANA – CATANZARO Ore 15.00\nVIBONESE – SICULA LEONZIO Ore 15.00\nVIRTUS FRANCAVILLA – MONOPOLI Ore 17.30
URL:https://www.lega-pro.com/event/17-giornata-rit-2/
END:VEVENT
END:VCALENDAR