BEGIN:VCALENDAR
VERSION:2.0
PRODID:-//LEGA PRO - ECPv5.7.1//NONSGML v1.0//EN
CALSCALE:GREGORIAN
METHOD:PUBLISH
X-WR-CALNAME:LEGA PRO
X-ORIGINAL-URL:https://www.lega-pro.com
X-WR-CALDESC:Eventi per LEGA PRO
BEGIN:VTIMEZONE
TZID:Europe/Rome
BEGIN:DAYLIGHT
TZOFFSETFROM:+0100
TZOFFSETTO:+0200
TZNAME:CEST
DTSTART:20230326T010000
END:DAYLIGHT
BEGIN:STANDARD
TZOFFSETFROM:+0200
TZOFFSETTO:+0100
TZNAME:CET
DTSTART:20231029T010000
END:STANDARD
END:VTIMEZONE
BEGIN:VEVENT
DTSTART;TZID=Europe/Rome:20231210T140000
DTEND;TZID=Europe/Rome:20231210T203000
DTSTAMP:20260423T131637
CREATED:20231025T135928Z
LAST-MODIFIED:20231025T135928Z
UID:50782-1702216800-1702240200@www.lega-pro.com
SUMMARY:17^ GIORNATA
DESCRIPTION:GIRONE B\nLUCCHESE – FERMANA Ore 14.00\nPERUGIA – VIS PESARO Ore 16.15\nRIMINI – CARRARESE Ore 14.00\nSESTRI LEVANTE – ANCONA Ore 14.00\nTORRES – AREZZO Ore 14.00 \nGIRONE C\nBENEVENTO – AVELLINO Ore 18.30\nFOGGIA – POTENZA Ore 18.30\nSORRENTO – BRINDISI Ore 16.15
URL:https://www.lega-pro.com/event/17-giornata-7/
END:VEVENT
END:VCALENDAR