BEGIN:VCALENDAR
VERSION:2.0
PRODID:-//LEGA PRO - ECPv5.7.1//NONSGML v1.0//EN
CALSCALE:GREGORIAN
METHOD:PUBLISH
X-WR-CALNAME:LEGA PRO
X-ORIGINAL-URL:https://www.lega-pro.com
X-WR-CALDESC:Eventi per LEGA PRO
BEGIN:VTIMEZONE
TZID:Europe/Rome
BEGIN:DAYLIGHT
TZOFFSETFROM:+0100
TZOFFSETTO:+0200
TZNAME:CEST
DTSTART:20230326T010000
END:DAYLIGHT
BEGIN:STANDARD
TZOFFSETFROM:+0200
TZOFFSETTO:+0100
TZNAME:CET
DTSTART:20231029T010000
END:STANDARD
END:VTIMEZONE
BEGIN:VEVENT
DTSTART;TZID=Europe/Rome:20231208T140000
DTEND;TZID=Europe/Rome:20231208T190000
DTSTAMP:20260423T164612
CREATED:20231025T135809Z
LAST-MODIFIED:20231117T110441Z
UID:50778-1702044000-1702062000@www.lega-pro.com
SUMMARY:17^ GIORNATA
DESCRIPTION:GIRONE A\nFIORENZUOLA – ARZIGNANO V. Ore 17.00\nL.R. VICENZA – MANTOVA Ore 17.00\nLEGNAGO SALUS – NOVARA Ore 14.00\nLUMEZZANE – PRO SESTO Ore 14.00\nPERGOLETTESE – VIRTUS VERONA Ore 17.00\nPRO PATRIA – ALESSANDRIA Ore 14.00\nPRO VERCELLI – TRENTO 14.00\nRENATE – ALBINOLEFFE Ore 14.00 \nGIRONE C\nPICERNO – CASERTANA Ore 17.00
URL:https://www.lega-pro.com/event/17-giornata-5/
END:VEVENT
END:VCALENDAR