BEGIN:VCALENDAR
VERSION:2.0
PRODID:-//LEGA PRO - ECPv5.7.1//NONSGML v1.0//EN
CALSCALE:GREGORIAN
METHOD:PUBLISH
X-WR-CALNAME:LEGA PRO
X-ORIGINAL-URL:https://www.lega-pro.com
X-WR-CALDESC:Eventi per LEGA PRO
BEGIN:VTIMEZONE
TZID:Europe/Rome
BEGIN:DAYLIGHT
TZOFFSETFROM:+0100
TZOFFSETTO:+0200
TZNAME:CEST
DTSTART:20200329T010000
END:DAYLIGHT
BEGIN:STANDARD
TZOFFSETFROM:+0200
TZOFFSETTO:+0100
TZNAME:CET
DTSTART:20201025T010000
END:STANDARD
END:VTIMEZONE
BEGIN:VEVENT
DTSTART;TZID=Europe/Rome:20200405T150000
DTEND;TZID=Europe/Rome:20200405T193000
DTSTAMP:20260419T155610
CREATED:20191216T101101Z
LAST-MODIFIED:20191216T101123Z
UID:26502-1586098800-1586115000@www.lega-pro.com
SUMMARY:16^ GIORNATA RIT.
DESCRIPTION:GIRONE A\nALESSANDRIA – MONZA Ore 17.30\nCARRARESE – ALBINOLEFFE Ore 15.00\nCOMO – PIANESE Ore 15.00\nGIANA ERMINIO – LECCO Ore 17.30\nGOZZANO – JUVENTUS U23 Ore 17.30\nOLBIA – PERGOLETTESE Ore 15.00\nPISTOIESE – PRO PATRIA Ore 15.00\nPONTEDERA – ROBUR SIENA Ore 17.30\nRENATE – PRO VERCELLI Ore 15.00 \nGIRONE B\nA.J. FANO – L.R. VICENZA Ore 15.00\nARZIGNANO V. – VIS PESARO Ore 15.00\nCARPI – VIRTUSVECOMP VERONA Ore 15.00\nFERALPISALÒ – SAMBENEDETTESE Ore 15.00\nGUBBIO – RAVENNA Ore 17.30\nMODENA – CESENA Ore 17.30\nREGGIO AUDACE – FERMANA Ore 17.30\nRIMINI – PADOVA Ore 17.30\nSUDTIROL – TRIESTINA Ore 15.00 \nGIRONE C\nCASERTANA – CATANIA Ore 15.00\nCATANZARO – VIBONESE Ore 17.30\nMONOPOLI – CAVESE Ore 17.30\nPAGANESE – BISCEGLIE Ore 17.30\nPOTENZA – VIRTUS FRANCAVILLA Ore 17.30\nRENDE – REGGINA Ore 17.30\nSICULA LEONZIO – PICERNO Ore 15.00\nTERAMO – BARI Ore 15.00\nVITERBESE CASTRENSE – TERNANA Ore 17.30
URL:https://www.lega-pro.com/event/16-giornata-rit-2/
END:VEVENT
END:VCALENDAR