BEGIN:VCALENDAR
VERSION:2.0
PRODID:-//LEGA PRO - ECPv5.7.1//NONSGML v1.0//EN
CALSCALE:GREGORIAN
METHOD:PUBLISH
X-WR-CALNAME:LEGA PRO
X-ORIGINAL-URL:https://www.lega-pro.com
X-WR-CALDESC:Eventi per LEGA PRO
BEGIN:VTIMEZONE
TZID:Europe/Rome
BEGIN:DAYLIGHT
TZOFFSETFROM:+0100
TZOFFSETTO:+0200
TZNAME:CEST
DTSTART:20230326T010000
END:DAYLIGHT
BEGIN:STANDARD
TZOFFSETFROM:+0200
TZOFFSETTO:+0100
TZNAME:CET
DTSTART:20231029T010000
END:STANDARD
END:VTIMEZONE
BEGIN:VEVENT
DTSTART;TZID=Europe/Rome:20231203T140000
DTEND;TZID=Europe/Rome:20231203T230000
DTSTAMP:20260423T234029
CREATED:20231023T095259Z
LAST-MODIFIED:20231124T112952Z
UID:50726-1701612000-1701644400@www.lega-pro.com
SUMMARY:16^ GIORNATA
DESCRIPTION:GIRONE A\nALBINOLEFFE – PRO VERCELLI Ore 18.30\nALESSANDRIA – FIORENZUOLA Ore 16.15\nARZIGNANO V. – PERGOLETTESE Ore 18.30\nGIANA ERMINIO – TRENTO Ore 18.30\nMANTOVA – RENATE Ore 18.30\nNOVARA – L.R. VICENZA Ore 14.00\nPADOVA – LUMEZZANE Ore 18.30\nPRO SESTO – LEGNAGO SALUS Ore 20.45 \nGIRONE B\nFERMANA – TORRES Ore 14.00\nOLBIA – PERUGIA Ore 14.00\nPINETO – SESTRI LEVANTE Ore 14.00\nVIS PESARO – RIMINI Ore 20.45 \nGIRONE C\nAUDACE CERIGNOLA – PICERNO Ore 20.45\nAVELLINO – TURRIS Ore 20.45\nBRINDISI – CROTONE Ore 20.45\nCATANIA – VIRTUS FRANCAVILLA Ore 20.45\nJUVE STABIA – BENEVENTO Ore 16.00 Diretta Rai 2
URL:https://www.lega-pro.com/event/16-giornata-7/
END:VEVENT
END:VCALENDAR