BEGIN:VCALENDAR
VERSION:2.0
PRODID:-//LEGA PRO - ECPv5.7.1//NONSGML v1.0//EN
CALSCALE:GREGORIAN
METHOD:PUBLISH
X-WR-CALNAME:LEGA PRO
X-ORIGINAL-URL:https://www.lega-pro.com
X-WR-CALDESC:Eventi per LEGA PRO
BEGIN:VTIMEZONE
TZID:Europe/Rome
BEGIN:DAYLIGHT
TZOFFSETFROM:+0100
TZOFFSETTO:+0200
TZNAME:CEST
DTSTART:20240331T010000
END:DAYLIGHT
BEGIN:STANDARD
TZOFFSETFROM:+0200
TZOFFSETTO:+0100
TZNAME:CET
DTSTART:20241027T010000
END:STANDARD
END:VTIMEZONE
BEGIN:VEVENT
DTSTART;TZID=Europe/Rome:20240330T140000
DTEND;TZID=Europe/Rome:20240330T230000
DTSTAMP:20260419T235538
CREATED:20240220T083553Z
LAST-MODIFIED:20240220T083553Z
UID:52659-1711807200-1711839600@www.lega-pro.com
SUMMARY:15^ GIORNATA RIT.
DESCRIPTION:GIRONE A\nALBINOLEFFE – TRENTO Ore 14.00\nALESSANDRIA – PRO VERCELLI Ore 20.45\nARZIGNANO V. – TRIESTINA Ore 16.15\nGIANA ERMINIO – FIORENZUOLA Ore 18.30\nMANTOVA – ATALANTA U23 Ore 18.30\nNOVARA – LUMEZZANE Ore 16.15\nPRO PATRIA – LEGNAGO SALUS Ore 18.30\nPRO SESTO – L.R. VICENZA Ore 20.45\nVIRTUS VERONA – RENATE Ore 18.30 \nGIRONE B\nANCONA – SPAL Ore 16.15\nAREZZO – JUVENTUS NEXT GEN Ore 14.00\nCESENA – PESCARA Ore 16.15\nOLBIA – SESTRI LEVANTE Ore 14.00\nPINETO – RECANATESE Ore 20.45\nVIRTUS ENTELLA – PONTEDERA Ore 16.15 \nGIRONE C\nAUDACE CERIGNOLA – TURRIS Ore 20.45\nAVELLINO – PICERNO Ore 20.45\nBRINDISI – VIRTUS FRANCAVILLA Ore 20.45\nCASERTANA – TARANTO Ore 14.00\nJUVE STABIA – ACR MESSINA Ore 16.15\nLATINA – FOGGIA Ore 18.30\nMONOPOLI – SORRENTO Ore 14.00\nMONTEROSI TUSCIA – BENEVENTO Ore 14.00\nPOTENZA – CROTONE Ore 18.30
URL:https://www.lega-pro.com/event/15-giornata-rit-12/
END:VEVENT
END:VCALENDAR