BEGIN:VCALENDAR
VERSION:2.0
PRODID:-//LEGA PRO - ECPv5.7.1//NONSGML v1.0//EN
CALSCALE:GREGORIAN
METHOD:PUBLISH
X-WR-CALNAME:LEGA PRO
X-ORIGINAL-URL:https://www.lega-pro.com
X-WR-CALDESC:Eventi per LEGA PRO
BEGIN:VTIMEZONE
TZID:Europe/Rome
BEGIN:DAYLIGHT
TZOFFSETFROM:+0100
TZOFFSETTO:+0200
TZNAME:CEST
DTSTART:20230326T010000
END:DAYLIGHT
BEGIN:STANDARD
TZOFFSETFROM:+0200
TZOFFSETTO:+0100
TZNAME:CET
DTSTART:20231029T010000
END:STANDARD
END:VTIMEZONE
BEGIN:VEVENT
DTSTART;TZID=Europe/Rome:20231124T204500
DTEND;TZID=Europe/Rome:20231124T230000
DTSTAMP:20260424T145747
CREATED:20231023T075002Z
LAST-MODIFIED:20231023T075002Z
UID:50707-1700858700-1700866800@www.lega-pro.com
SUMMARY:15^ GIORNATA
DESCRIPTION:GIRONE A\nATALANTA U23 – MANTOVA Ore 20.45\nTRENTO – ALBINOLEFFE Ore 20.45 \nGIRONE C\nFOGGIA – LATINA Ore 20.45
URL:https://www.lega-pro.com/event/15-giornata-7/
END:VEVENT
END:VCALENDAR