BEGIN:VCALENDAR
VERSION:2.0
PRODID:-//LEGA PRO - ECPv5.7.1//NONSGML v1.0//EN
CALSCALE:GREGORIAN
METHOD:PUBLISH
X-WR-CALNAME:LEGA PRO
X-ORIGINAL-URL:https://www.lega-pro.com
X-WR-CALDESC:Eventi per LEGA PRO
BEGIN:VTIMEZONE
TZID:Europe/Rome
BEGIN:DAYLIGHT
TZOFFSETFROM:+0100
TZOFFSETTO:+0200
TZNAME:CEST
DTSTART:20230326T010000
END:DAYLIGHT
BEGIN:STANDARD
TZOFFSETFROM:+0200
TZOFFSETTO:+0100
TZNAME:CET
DTSTART:20231029T010000
END:STANDARD
END:VTIMEZONE
BEGIN:VEVENT
DTSTART;TZID=Europe/Rome:20231118T140000
DTEND;TZID=Europe/Rome:20231118T203000
DTSTAMP:20260424T183341
CREATED:20231023T071608Z
LAST-MODIFIED:20231113T072615Z
UID:50699-1700316000-1700339400@www.lega-pro.com
SUMMARY:14^ GIORNATA
DESCRIPTION:GIRONE A\nALESSANDRIA – GIANA ERMINIO Ore 14.00\nARZIGNANO V. – RENATE Ore 14.00\nATALANTA U23 – TRIESTINA Ore 16.15\nLEGNAGO SALUS – L.R. VICENZA Ore 14.00\nPRO PATRIA – FIORENZUOLA Ore 14.00\nPRO SESTO – ALBINOLEFFE Ore 16.15\nVIRTUS VERONA – LUMEZZANE Ore 14.00 \nGIRONE B\nANCONA – RECANATESE Ore 18.30\nGUBBIO – SESTRI LEVANTE Ore 14.00\nPINETO – PERUGIA Ore 16.15 \nGIRONE C\nCATANIA – TURRIS Ore 14.00\nLATINA – PICERNO Ore 16.15\nTARANTO – BRINDISI Ore 18.30\nCASERTANA – CROTONE Ore 16.15
URL:https://www.lega-pro.com/event/14-giornata-7/
END:VEVENT
END:VCALENDAR