BEGIN:VCALENDAR
VERSION:2.0
PRODID:-//LEGA PRO - ECPv5.7.1//NONSGML v1.0//EN
CALSCALE:GREGORIAN
METHOD:PUBLISH
X-WR-CALNAME:LEGA PRO
X-ORIGINAL-URL:https://www.lega-pro.com
X-WR-CALDESC:Eventi per LEGA PRO
BEGIN:VTIMEZONE
TZID:Europe/Rome
BEGIN:DAYLIGHT
TZOFFSETFROM:+0100
TZOFFSETTO:+0200
TZNAME:CEST
DTSTART:20230326T010000
END:DAYLIGHT
BEGIN:STANDARD
TZOFFSETFROM:+0200
TZOFFSETTO:+0100
TZNAME:CET
DTSTART:20231029T010000
END:STANDARD
END:VTIMEZONE
BEGIN:VEVENT
DTSTART;TZID=Europe/Rome:20231112T140000
DTEND;TZID=Europe/Rome:20231112T230000
DTSTAMP:20260424T232827
CREATED:20231023T070829Z
LAST-MODIFIED:20231107T104810Z
UID:50695-1699797600-1699830000@www.lega-pro.com
SUMMARY:13^ GIORNATA
DESCRIPTION:GIRONE A\nRENATE – ALESSANDRIA Ore 20.45 \nGIRONE B\nAREZZO – PINETO Ore 16.15\nCESENA – VIS PESARO Ore 20.45\nJUVENTUS NEXT GEN – CARRARESE Ore 20.45\nPERUGIA – GUBBIO Ore 20.45\nRECANATESE – OLBIA Ore 14.00\nSESTRI LEVANTE – FERMANA Ore 18.30\nSPAL – PONTEDERA Ore 20.45\nTORRES – ANCONA Ore 14.00 \nGIRONE C\nACR MESSINA – LATINA Ore 16.15\nAUDACE CERIGNOLA – CATANIA Ore 18.30\nBRINDISI – AVELLINO Ore 18.30\nCROTONE – MONTEROSI TUSCIA Ore 14.00\nSORRENTO – TARANTO Ore 18.30\nTURRIS – MONOPOLI Ore 14.00
URL:https://www.lega-pro.com/event/13-giornata-11/
END:VEVENT
END:VCALENDAR