BEGIN:VCALENDAR
VERSION:2.0
PRODID:-//LEGA PRO - ECPv5.7.1//NONSGML v1.0//EN
CALSCALE:GREGORIAN
METHOD:PUBLISH
X-WR-CALNAME:LEGA PRO
X-ORIGINAL-URL:https://www.lega-pro.com
X-WR-CALDESC:Eventi per LEGA PRO
BEGIN:VTIMEZONE
TZID:Europe/Rome
BEGIN:DAYLIGHT
TZOFFSETFROM:+0100
TZOFFSETTO:+0200
TZNAME:CEST
DTSTART:20230326T010000
END:DAYLIGHT
BEGIN:STANDARD
TZOFFSETFROM:+0200
TZOFFSETTO:+0100
TZNAME:CET
DTSTART:20231029T010000
END:STANDARD
END:VTIMEZONE
BEGIN:VEVENT
DTSTART;TZID=Europe/Rome:20231111T161500
DTEND;TZID=Europe/Rome:20231111T230000
DTSTAMP:20260425T010745
CREATED:20231023T070746Z
LAST-MODIFIED:20231023T070746Z
UID:50693-1699719300-1699743600@www.lega-pro.com
SUMMARY:13^ GIORNATA
DESCRIPTION:GIRONE A\nALBINOLEFFE – PADOVA Ore 20.45\nFIORENZUOLA – MANTOVA Ore 16.15\nGIANA ERMINIO – VIRTUS VERONA Ore 18.30\nL.R. VICENZA – PRO PATRIA Ore 18.30\nLUMEZZANE – LEGNAGO SALUS Ore 16.15\nPERGOLETTESE – ATALANTA U23 Ore 18.30\nTRENTO – ARZIGNANO V. Ore 18.30\nTRIESTINA – PRO SESTO Ore 16.15 \nGIRONE C\nVIRTUS FRANCAVILLA – CASERTANA Ore 20.45
URL:https://www.lega-pro.com/event/13-giornata-10/
END:VEVENT
END:VCALENDAR