BEGIN:VCALENDAR
VERSION:2.0
PRODID:-//LEGA PRO - ECPv5.7.1//NONSGML v1.0//EN
CALSCALE:GREGORIAN
METHOD:PUBLISH
X-WR-CALNAME:LEGA PRO
X-ORIGINAL-URL:https://www.lega-pro.com
X-WR-CALDESC:Eventi per LEGA PRO
BEGIN:VTIMEZONE
TZID:Europe/Rome
BEGIN:DAYLIGHT
TZOFFSETFROM:+0100
TZOFFSETTO:+0200
TZNAME:CEST
DTSTART:20230326T010000
END:DAYLIGHT
BEGIN:STANDARD
TZOFFSETFROM:+0200
TZOFFSETTO:+0100
TZNAME:CET
DTSTART:20231029T010000
END:STANDARD
END:VTIMEZONE
BEGIN:VEVENT
DTSTART;TZID=Europe/Rome:20231104T161500
DTEND;TZID=Europe/Rome:20231104T224500
DTSTAMP:20260425T131919
CREATED:20231020T143633Z
LAST-MODIFIED:20231020T143633Z
UID:50682-1699114500-1699137900@www.lega-pro.com
SUMMARY:12^ GIORNATA
DESCRIPTION:GIRONE A\nALESSANDRIA – TRIESTINA Ore 16.15\nLEGNAGO SALUS – PRO VERCELLI Ore 16.15\nNOVARA – ALBINOLEFFE Ore 18.30\nPADOVA – GIANA ERMINIO Ore 18.30 \nGIRONE C\nAVELLINO – VIRTUS FRANCAVILLA Ore 18.30\nFOGGIA – SORRENTO Ore 20.45\nLATINA – CROTONE Ore 18.30\nMONTEROSI TUSCIA – PICERNO Ore 16.15
URL:https://www.lega-pro.com/event/12-giornata-11/
END:VEVENT
END:VCALENDAR