BEGIN:VCALENDAR
VERSION:2.0
PRODID:-//LEGA PRO - ECPv5.7.1//NONSGML v1.0//EN
CALSCALE:GREGORIAN
METHOD:PUBLISH
X-WR-CALNAME:LEGA PRO
X-ORIGINAL-URL:https://www.lega-pro.com
X-WR-CALDESC:Eventi per LEGA PRO
BEGIN:VTIMEZONE
TZID:Europe/Rome
BEGIN:DAYLIGHT
TZOFFSETFROM:+0100
TZOFFSETTO:+0200
TZNAME:CEST
DTSTART:20230326T010000
END:DAYLIGHT
BEGIN:STANDARD
TZOFFSETFROM:+0200
TZOFFSETTO:+0100
TZNAME:CET
DTSTART:20231029T010000
END:STANDARD
END:VTIMEZONE
BEGIN:VEVENT
DTSTART;TZID=Europe/Rome:20231103T204500
DTEND;TZID=Europe/Rome:20231103T224500
DTSTAMP:20260425T150003
CREATED:20231020T143550Z
LAST-MODIFIED:20231020T143550Z
UID:50680-1699044300-1699051500@www.lega-pro.com
SUMMARY:12^ GIORNATA
DESCRIPTION:GIRONE A\nARZIGNANO V. – L.R. VICENZA Ore 20.45\nPRO PATRIA – LUMEZZANE Ore 20.45\nPRO SESTO – RENATE Ore 20.45\nVIRTUS VERONA – TRENTO Ore 20.45
URL:https://www.lega-pro.com/event/12-giornata-10/
END:VEVENT
END:VCALENDAR