BEGIN:VCALENDAR
VERSION:2.0
PRODID:-//LEGA PRO - ECPv5.7.1//NONSGML v1.0//EN
CALSCALE:GREGORIAN
METHOD:PUBLISH
X-WR-CALNAME:LEGA PRO
X-ORIGINAL-URL:https://www.lega-pro.com
X-WR-CALDESC:Eventi per LEGA PRO
BEGIN:VTIMEZONE
TZID:Europe/Rome
BEGIN:DAYLIGHT
TZOFFSETFROM:+0100
TZOFFSETTO:+0200
TZNAME:CEST
DTSTART:20230326T010000
END:DAYLIGHT
BEGIN:STANDARD
TZOFFSETFROM:+0200
TZOFFSETTO:+0100
TZNAME:CET
DTSTART:20231029T010000
END:STANDARD
END:VTIMEZONE
BEGIN:VEVENT
DTSTART;TZID=Europe/Rome:20231029T161500
DTEND;TZID=Europe/Rome:20231029T230000
DTSTAMP:20260425T212803
CREATED:20230920T082319Z
LAST-MODIFIED:20231020T133932Z
UID:50188-1698596100-1698620400@www.lega-pro.com
SUMMARY:11^ GIORNATA
DESCRIPTION:GIRONE A\nL.R. VICENZA – PADOVA Ore 14.00 \nGIRONE B\nFERMANA – ANCONA Ore 20.45\nJUVENTUS NEXT GEN – OLBIA Ore 14.00\nLUCCHESE – PONTEDERA Ore 20.45\nPESCARA – RECANATESE Ore 18.30\nTORRES – SPAL Ore 14.00 \nGIRONE C\nAUDACE CERIGNOLA – CASERTANA Ore 18.30\nBRINDISI – MONOPOLI Ore 20.45\nCATANIA – AVELLINO Ore 16.15  (Diretta Rai 2)\nCROTONE – ACR MESSINA Ore 14.00\nJUVE STABIA – LATINA Ore 18.30\nPICERNO – FOGGIA Ore 18.30\nSORRENTO – MONTEROSI TUSCIA Ore 16.15\nTURRIS – GIUGLIANO Ore 18.30\nVIRTUS FRANCAVILLA – TARANTO Ore 20.45
URL:https://www.lega-pro.com/event/11-giornata-12/
END:VEVENT
END:VCALENDAR