BEGIN:VCALENDAR
VERSION:2.0
PRODID:-//LEGA PRO - ECPv5.7.1//NONSGML v1.0//EN
CALSCALE:GREGORIAN
METHOD:PUBLISH
X-WR-CALNAME:LEGA PRO
X-ORIGINAL-URL:https://www.lega-pro.com
X-WR-CALDESC:Eventi per LEGA PRO
BEGIN:VTIMEZONE
TZID:Europe/Rome
BEGIN:DAYLIGHT
TZOFFSETFROM:+0100
TZOFFSETTO:+0200
TZNAME:CEST
DTSTART:20230326T010000
END:DAYLIGHT
BEGIN:STANDARD
TZOFFSETFROM:+0200
TZOFFSETTO:+0100
TZNAME:CET
DTSTART:20231029T010000
END:STANDARD
END:VTIMEZONE
BEGIN:VEVENT
DTSTART;TZID=Europe/Rome:20231028T161500
DTEND;TZID=Europe/Rome:20231028T230000
DTSTAMP:20260425T231437
CREATED:20230920T082159Z
LAST-MODIFIED:20230920T082159Z
UID:50186-1698509700-1698534000@www.lega-pro.com
SUMMARY:11^ GIORNATA
DESCRIPTION:GIRONE A\nALBINOLEFFE – ARZIGNANO V. Sabato Ore 16.15\nGIANA ERMINIO – PRO SESTO Sabato Ore 18.30\nLUMEZZANE – ATALANTA U23 Sabato Ore 20.45\nPERGOLETTESE – LEGNAGO SALUS Sabato Ore 18.30\nPRO VERCELLI – PRO PATRIA Sabato Ore 16.15\nRENATE – NOVARA Sabato Ore 18.30\nTRENTO – ALESSANDRIA Sabato Ore 18.30\nTRIESTINA – FIORENZUOLA Sabato Ore 18.30\nVIRTUS VERONA – MANTOVA Sabato Ore 16.15
URL:https://www.lega-pro.com/event/11-giornata-11/
END:VEVENT
END:VCALENDAR