BEGIN:VCALENDAR
VERSION:2.0
PRODID:-//LEGA PRO - ECPv5.7.1//NONSGML v1.0//EN
CALSCALE:GREGORIAN
METHOD:PUBLISH
X-WR-CALNAME:LEGA PRO
X-ORIGINAL-URL:https://www.lega-pro.com
X-WR-CALDESC:Eventi per LEGA PRO
BEGIN:VTIMEZONE
TZID:Europe/Rome
BEGIN:DAYLIGHT
TZOFFSETFROM:+0100
TZOFFSETTO:+0200
TZNAME:CEST
DTSTART:20230326T010000
END:DAYLIGHT
BEGIN:STANDARD
TZOFFSETFROM:+0200
TZOFFSETTO:+0100
TZNAME:CET
DTSTART:20231029T010000
END:STANDARD
END:VTIMEZONE
BEGIN:VEVENT
DTSTART;TZID=Europe/Rome:20231026T183000
DTEND;TZID=Europe/Rome:20231026T230000
DTSTAMP:20260426T005453
CREATED:20230920T081516Z
LAST-MODIFIED:20231026T142034Z
UID:50182-1698345000-1698361200@www.lega-pro.com
SUMMARY:10^ GIORNATA
DESCRIPTION:GIRONE B\nANCONA – AREZZO Ore 18.30\nCARRARESE – PINETO Ore 18.30\nPONTEDERA – VIS PESARO Ore 18.30\nRECANATESE – PERUGIA Ore 20.45\nRIMINI – LUCCHESE Ore 18.30\nSPAL – SESTRI LEVANTE Ore 18.30\nVIRTUS ENTELLA – CESENA rinviata a data da destinarsi \nGIRONE C\nACR MESSINA – BRINDISI Ore 18.30\nFOGGIA – BENEVENTO Ore 20.45\nPOTENZA – SORRENTO Ore 20.45
URL:https://www.lega-pro.com/event/10-giornata-11/
END:VEVENT
END:VCALENDAR