BEGIN:VCALENDAR
VERSION:2.0
PRODID:-//LEGA PRO - ECPv5.7.1//NONSGML v1.0//EN
CALSCALE:GREGORIAN
METHOD:PUBLISH
X-WR-CALNAME:LEGA PRO
X-ORIGINAL-URL:https://www.lega-pro.com
X-WR-CALDESC:Eventi per LEGA PRO
BEGIN:VTIMEZONE
TZID:Europe/Rome
BEGIN:DAYLIGHT
TZOFFSETFROM:+0100
TZOFFSETTO:+0200
TZNAME:CEST
DTSTART:20230326T010000
END:DAYLIGHT
BEGIN:STANDARD
TZOFFSETFROM:+0200
TZOFFSETTO:+0100
TZNAME:CET
DTSTART:20231029T010000
END:STANDARD
END:VTIMEZONE
BEGIN:VEVENT
DTSTART;TZID=Europe/Rome:20231025T183000
DTEND;TZID=Europe/Rome:20231025T230000
DTSTAMP:20260426T023626
CREATED:20230920T081411Z
LAST-MODIFIED:20230920T081440Z
UID:50180-1698258600-1698274800@www.lega-pro.com
SUMMARY:10^ GIORNATA
DESCRIPTION:GIRONE B\nGUBBIO – JUVENTUS NEXT GEN Ore 18.30\nOLBIA – FERMANA Ore 18.30\nPESCARA – TORRES Ore 20.45 \nGIRONE C\nAVELLINO – AUDACE CERIGNOLA Ore 18.30\nCASERTANA – JUVE STABIA Ore 20.45\nGIUGLIANO – CROTONE Ore 18.30\nLATINA – VIRTUS FRANCAVILLA Ore 18.30\nMONOPOLI – PICERNO Ore 20.45\nMONTEROSI TUSCIA – CATANIA Ore 18.30\nTARANTO – TURRIS Ore 20.45
URL:https://www.lega-pro.com/event/10-giornata-10/
END:VEVENT
END:VCALENDAR