BEGIN:VCALENDAR
VERSION:2.0
PRODID:-//LEGA PRO - ECPv5.7.1//NONSGML v1.0//EN
CALSCALE:GREGORIAN
METHOD:PUBLISH
X-WR-CALNAME:LEGA PRO
X-ORIGINAL-URL:https://www.lega-pro.com
X-WR-CALDESC:Eventi per LEGA PRO
BEGIN:VTIMEZONE
TZID:Europe/Rome
BEGIN:DAYLIGHT
TZOFFSETFROM:+0100
TZOFFSETTO:+0200
TZNAME:CEST
DTSTART:20230326T010000
END:DAYLIGHT
BEGIN:STANDARD
TZOFFSETFROM:+0200
TZOFFSETTO:+0100
TZNAME:CET
DTSTART:20231029T010000
END:STANDARD
END:VTIMEZONE
BEGIN:VEVENT
DTSTART;TZID=Europe/Rome:20231116T180000
DTEND;TZID=Europe/Rome:20231116T230000
DTSTAMP:20260424T202059
CREATED:20231102T135641Z
LAST-MODIFIED:20231113T074559Z
UID:50902-1700157600-1700175600@www.lega-pro.com
SUMMARY:10^-11^ GIORNATA
DESCRIPTION:10^ GIORNATA DI ANDATA\nGIRONE B\nVIRTUS ENTELLA – CESENA Ore 20.45 \n11^ GIORNATA DI ANDATA\nGIRONE B\nSESTRI LEVANTE – RIMINI Ore 18.00
URL:https://www.lega-pro.com/event/10-11-giornata/
END:VEVENT
END:VCALENDAR