BEGIN:VCALENDAR
VERSION:2.0
PRODID:-//LEGA PRO - ECPv5.7.1//NONSGML v1.0//EN
CALSCALE:GREGORIAN
METHOD:PUBLISH
X-WR-CALNAME:LEGA PRO
X-ORIGINAL-URL:https://www.lega-pro.com
X-WR-CALDESC:Eventi per LEGA PRO
BEGIN:VTIMEZONE
TZID:Europe/Rome
BEGIN:DAYLIGHT
TZOFFSETFROM:+0100
TZOFFSETTO:+0200
TZNAME:CEST
DTSTART:20240331T010000
END:DAYLIGHT
BEGIN:STANDARD
TZOFFSETFROM:+0200
TZOFFSETTO:+0100
TZNAME:CET
DTSTART:20241027T010000
END:STANDARD
END:VTIMEZONE
BEGIN:VEVENT
DTSTART;TZID=Europe/Rome:20240108T203000
DTEND;TZID=Europe/Rome:20240108T233000
DTSTAMP:20260422T182733
CREATED:20231127T084429Z
LAST-MODIFIED:20231127T084435Z
UID:51316-1704745800-1704756600@www.lega-pro.com
SUMMARY:1^ GIORNATA RIT.
DESCRIPTION:GIRONE A\nLUMEZZANE – PRO VERCELLI Ore 20.45\nPADOVA – MANTOVA Ore 20.30 Diretta Rai Sport
URL:https://www.lega-pro.com/event/1-giornata-rit-13/
END:VEVENT
END:VCALENDAR