BEGIN:VCALENDAR
VERSION:2.0
PRODID:-//LEGA PRO - ECPv5.7.1//NONSGML v1.0//EN
CALSCALE:GREGORIAN
METHOD:PUBLISH
X-WR-CALNAME:LEGA PRO
X-ORIGINAL-URL:https://www.lega-pro.com
X-WR-CALDESC:Eventi per LEGA PRO
BEGIN:VTIMEZONE
TZID:Europe/Rome
BEGIN:DAYLIGHT
TZOFFSETFROM:+0100
TZOFFSETTO:+0200
TZNAME:CEST
DTSTART:20200329T010000
END:DAYLIGHT
BEGIN:STANDARD
TZOFFSETFROM:+0200
TZOFFSETTO:+0100
TZNAME:CET
DTSTART:20201025T010000
END:STANDARD
END:VTIMEZONE
BEGIN:VEVENT
DTSTART;TZID=Europe/Rome:20200927T150000
DTEND;TZID=Europe/Rome:20200927T183000
DTSTAMP:20260423T062320
CREATED:20200921T132313Z
LAST-MODIFIED:20200921T132313Z
UID:30220-1601218800-1601231400@www.lega-pro.com
SUMMARY:1^ GIORNATA
DESCRIPTION:GIRONE A\nALBINOLEFFE – LIVORNO Ore 15.00\nCARRARESE – PRO PATRIA Ore 15.00\nLUCCHESE – PERGOLETTESE Ore 17.30\nOLBIA – PONTEDERA Ore 15.00\nPIACENZA – GROSSETO Ore 15.00\nPISTOIESE – ALESSANDRIA Ore 15.00\nPRO VERCELLI – NOVARA Ore 17.30\nRENATE – COMO Ore 17.30 \nGIRONE B\nCARPI – SAMBENEDETTESE Ore 15.00\nFERALPISALÒ – AREZZO Ore 15.00\nFERMANA – MANTOVA Ore 17.30\nGUBBIO – MODENA Ore 15.00\nPADOVA – IMOLESE Ore 15.00\nPERUGIA – A.J. FANO Ore 17.30\nRAVENNA – SUDTIROL Ore 17.30\nTRIESTINA – MATELICA Ore 15.00\nVIRTUSVECOMP VERONA – CESENA Ore 17.30 \nGIRONE C\nAVELLINO – TURRIS Ore 17.30\nCATANIA – PAGANESE Ore 15.00\nJUVE STABIA – MONOPOLI Ore 17.30\nPOTENZA – CATANZARO Ore 17.30\nTERAMO – PALERMO Ore 15.00\nTERNANA – VITERBESE Ore 17.30\nTRAPANI – CASERTANA Ore 15.00\nVIRTUS FRANCAVILLA – BARI Ore 17.30
URL:https://www.lega-pro.com/event/1-giornata-2/
END:VEVENT
END:VCALENDAR